BEGIN:VCALENDAR
VERSION:2.0
PRODID:icalendar-ruby
CALSCALE:GREGORIAN
METHOD:PUBLISH
BEGIN:VEVENT
DTSTAMP:20260422T112402Z
UID:7-873965@stpeters.tithelysetup2.com
DTSTART:20260918T160000Z
DTEND:20260918T170000Z
CLASS:PUBLIC
CREATED:20260422T072127
DESCRIPTION:Please remeber to MUTE your phone when not speaking\, thank you
 .\nConference Call number: 712-770-5505\nAccess Code: 529424
LAST-MODIFIED:20260422T072127
LOCATION:Conference Call 
SUMMARY:Praise and Worship Service
URL;VALUE=URI:https://stpeters.tithelysetup2.com/events/praise-and-worship-
 service/2026-09-18
ATTACH;FILENAME=3-Crosses-and-sun.jpg;FMTTYPE=image/jpeg:https://dq5pwpg1q8
 ru0.cloudfront.net/2021/08/14/07/10/07/46c72f7f-e3ef-46b5-9a1b-5de4853ddea
 8/3-Crosses-and-sun.jpg
END:VEVENT
END:VCALENDAR
