BEGIN:VCALENDAR
VERSION:2.0
PRODID:icalendar-ruby
CALSCALE:GREGORIAN
METHOD:PUBLISH
BEGIN:VEVENT
DTSTAMP:20260422T120402Z
UID:9-874240@stpeters.tithelysetup2.com
DTSTART:20261007T223000Z
DTEND:20261007T233000Z
CLASS:PUBLIC
CREATED:20260422T072127
DESCRIPTION:Join us as we study the word of our Lord and Saviour Jesus Chri
 st.\n \nPlease remember to MUTE your phone when you're not speaking.\n \
 nConference Call number: 712-770-5505\nAccess code: 529424
LAST-MODIFIED:20260422T072127
LOCATION:Conference Call 
SUMMARY:Weekly Bible Study
URL;VALUE=URI:https://stpeters.tithelysetup2.com/events/weekly-bible-study/
 2026-10-07
ATTACH;FILENAME=Bible-Study.jpg;FMTTYPE=image/jpeg:https://dq5pwpg1q8ru0.cl
 oudfront.net/2021/08/14/07/33/42/9b7086a0-d7f6-4d04-891d-d80e8462f477/Bibl
 e-Study.jpg
END:VEVENT
END:VCALENDAR
